Workbook

Sheet Лоты — сводка
A1: Лот № | B1: Марка (нажмите, чтобы открыть лот) | C1: Позиций | D1: Штук | E1: Сумма лота, ₽ | F1: Ваш заказ, ₽
A2: 1 | B2: Audi | C2: 67 | D2: 140 | E2: 468620 | F2: ='01 Audi'!H71
A3: 2 | B3: BAIC | C3: 30 | D3: 188 | E3: 448180 | F3: ='02 BAIC'!H34
A4: 3 | B4: BMW | C4: 41 | D4: 125 | E4: 221270 | F4: ='03 BMW'!H45
A5: 4 | B5: Changan | C5: 66 | D5: 486 | E5: 532460 | F5: ='04 Changan'!H70
A6: 5 | B6: Chery | C6: 117 | D6: 669 | E6: 1072190 | F6: ='05 Chery'!H121
A7: 6 | B7: Chevrolet | C7: 80 | D7: 502 | E7: 682920 | F7: ='06 Chevrolet'!H84
A8: 7 | B8: Citroen | C8: 10 | D8: 18 | E8: 88940 | F8: ='07 Citroen'!H14
A9: 8 | B9: Dacia | C9: 4 | D9: 8 | E9: 53840 | F9: ='08 Dacia'!H8
A10: 9 | B10: Daewoo | C10: 16 | D10: 50 | E10: 80730 | F10: ='09 Daewoo'!H20
A11: 10 | B11: Exeed | C11: 7 | D11: 20 | E11: 82440 | F11: ='10 Exeed'!H11
A12: 11 | B12: Ford | C12: 86 | D12: 308 | E12: 594800 | F12: ='11 Ford'!H90
A13: 12 | B13: Geely | C13: 80 | D13: 533 | E13: 665040 | F13: ='12 Geely'!H84
A14: 13 | B14: Haval | C14: 101 | D14: 619 | E14: 1115680 | F14: ='13 Haval'!H105
A15: 14 | B15: Honda | C15: 47 | D15: 227 | E15: 256000 | F15: ='14 Honda'!H51
A16: 15 | B16: Hyundai | C16: 154 | D16: 823 | E16: 1118520 | F16: ='15 Hyundai'!H158
A17: 16 | B17: JAC | C17: 31 | D17: 213 | E17: 496980 | F17: ='16 JAC'!H35
A18: 17 | B18: Jetta VA3 (Китай) | C18: 17 | D18: 108 | E18: 171460 | F18: ='17 Jetta VA3 (Китай)'!H21
A19: 18 | B19: Kaiyi | C19: 19 | D19: 138 | E19: 320290 | F19: ='18 Kaiyi'!H23
A20: 19 | B20: Kia | C20: 182 | D20: 487 | E20: 851790 | F20: ='19 Kia'!H186
A21: 20 | B21: Lifan | C21: 17 | D21: 131 | E21: 160060 | F21: ='20 Lifan'!H21
A22: 21 | B22: Mazda | C22: 107 | D22: 340 | E22: 502660 | F22: ='21 Mazda'!H111
A23: 22 | B23: Mercedes | C23: 29 | D23: 81 | E23: 287070 | F23: ='22 Mercedes'!H33
A24: 23 | B24: Mitsubishi | C24: 33 | D24: 85 | E24: 204650 | F24: ='23 Mitsubishi'!H37
A25: 24 | B25: Nissan | C25: 67 | D25: 286 | E25: 793020 | F25: ='24 Nissan'!H71
A26: 25 | B26: Omoda | C26: 21 | D26: 72 | E26: 374280 | F26: ='25 Omoda'!H25
A27: 26 | B27: Opel | C27: 45 | D27: 240 | E27: 504760 | F27: ='26 Opel'!H49
A28: 27 | B28: Peugeot | C28: 23 | D28: 57 | E28: 125130 | F28: ='27 Peugeot'!H27
A29: 28 | B29: Renault | C29: 59 | D29: 134 | E29: 325930 | F29: ='28 Renault'!H63
A30: 29 | B30: Skoda | C30: 95 | D30: 373 | E30: 716270 | F30: ='29 Skoda'!H99
A31: 30 | B31: Subaru | C31: 11 | D31: 42 | E31: 91830 | F31: ='30 Subaru'!H15
A32: 31 | B32: Suzuki | C32: 22 | D32: 52 | E32: 155830 | F32: ='31 Suzuki'!H26
A33: 32 | B33: Toyota | C33: 142 | D33: 579 | E33: 1017300 | F33: ='32 Toyota'!H146
A34: 33 | B34: Volkswagen | C34: 112 | D34: 334 | E34: 695350 | F34: ='33 Volkswagen'!H116
A35: 34 | B35: Прочие марки | C35: 25 | D35: 45 | E35: 134370 | F35: ='34 Прочие марки'!H29
B36: ИТОГО | C36: =SUM(C2:C35) | D36: =SUM(D2:D35) | E36: =SUM(E2:E35) | F36: =SUM(F2:F35)
A38: Как заказать: впишите нужное количество в жёлтый столбец «Заказать» — сумма посчитается сама. Сохраните файл и отправьте нам. Товар в наличии на складе в Челябинске, цена за 1 шт., отгрузка после оплаты.

Sheet 01 Audi
A1: Лот № 1 — Audi
A2: ← к сводке лотов
A3: Марка / модель | B3: Артикул | C3: Оригинальный номер | D3: Наименование детали | E3: В наличии, шт | F3: Оптовая цена, ₽ | G3: Заказать, шт | H3: Сумма заказа, ₽
A4: Audi A1 10- / A4 / S4 / A5 / S5 07-A6 / S6 11- / Q3 12- / Q5 08- / Volkswagen Passat CC 2008 | B4: 446-2003L-UQ | C4: 8T0941699 | D4: Туманка левая | E4: 3 | F4: 2060 | H4: =IF(G4="","",F4*MIN(G4,E4))
A5: Audi A3 (8P,9P) 2003-2008 | B5: AU0700160-0R00 | C5: 8P0821106C | D5: Крыло правое | E5: 3 | F5: 3760 | H5: =IF(G5="","",F5*MIN(G5,E5))
A6: Audi A3 / Skoda Octavia / Superb / Volkswagen Caddy / Golf / Jetta / Passat 2003- 1.2-1.4 Turbo (Termal) | B6: 525294P | C6: 1K0121251BN | D6: Радиатор трубчатый | E6: 1 | F6: 4280 | H6: =IF(G6="","",F6*MIN(G6,E6))
A7: Audi A3 12-19 / Skoda Octavia 12-20 / Rapid 12-20 / Volkswagen Golf 12-19 / Audi Q2 16- / S3 13-16 / SEAT Ateca 16- / Leon 12-20 / Skoda Fabia 14-18 / Yeti 09-18 / Volkswagen Golf Sportsvan 14- / Touran 15 (Termal) | B7: 535312JP | C7: 5Q0121251EB | D7: Радиатор двс трубчатый | E7: 1 | F7: 3490 | H7: =IF(G7="","",F7*MIN(G7,E7))
A8: Audi A3 2012-2016 | B8: AD04050BA | C8: 8V0807065GRU | D8: Бампер передний с отверстиями под омыватели | E8: 1 | F8: 6390 | H8: =IF(G8="","",F8*MIN(G8,E8))
A9: Audi A3 2012-2020 | B9: AD99058CAL | C9: 8V3807681A9B9 | D9: Оправа туманки левая c хромированным молдингом | E9: 2 | F9: 480 | H9: =IF(G9="","",F9*MIN(G9,E9))
A10: Audi A3 2012-2020 | B10: UAG04-19111 | C10: 8V0821171 | D10: Подкрылок левый передний | E10: 4 | F10: 850 | H10: =IF(G10="","",F10*MIN(G10,E10))
A11: Audi A3 2012-2020 | B11: UAG04-19112 | C11: 8V0821172 | D11: Подкрылок правый передний | E11: 4 | F11: 570 | H11: =IF(G11="","",F11*MIN(G11,E11))
A12: Audi A3 2012-2020 3/5D | B12: AD10036BL | C12: 8V0821105C | D12: Крыло левое | E12: 2 | F12: 4500 | H12: =IF(G12="","",F12*MIN(G12,E12))
A13: Audi A3 2012-2020 3/5D | B13: AD10036BR | C13: 8V0821106C | D13: Крыло правое | E13: 1 | F13: 4500 | H13: =IF(G13="","",F13*MIN(G13,E13))
A14: Audi A3 2013-2016 | B14: AD0401A | C14: 8V0823029D | D14: Капот | E14: 2 | F14: 12540 | H14: =IF(G14="","",F14*MIN(G14,E14))
A15: Audi A3 sedan 2016 | B15: AD04065BD | C15: 8V3807067AGRU | D15: Бампер задний | E15: 2 | F15: 14540 | H15: =IF(G15="","",F15*MIN(G15,E15))
... A70: Audi Q7 2009-2015 | B70: AD04035BA | C70: 4L0807233 | D70: Бампер передний с отверстиями под омыватели | E70: 3 | F70: 9170 | H70: =IF(G70="","",F70*MIN(G70,E70))
D71: ИТОГО ЗАКАЗ | G71: =SUM(G4:G70) | H71: =SUM(H4:H70)
A73: Как заказать: впишите нужное количество в жёлтый столбец «Заказать» — сумма посчитается сама. Сохраните файл и отправьте нам. Товар в наличии на складе в Челябинске, цена за 1 шт., отгрузка после оплаты.
A74: Если заказать больше, чем есть в наличии, ячейка станет оранжевой, а сумма посчитается по наличию.

Sheet 02 BAIC
A1: Лот № 2 — BAIC
A2: ← к сводке лотов
A3: Марка / модель | B3: Артикул | C3: Оригинальный номер | D3: Наименование детали | E3: В наличии, шт | F3: Оптовая цена, ₽ | G3: Заказать, шт | H3: Сумма заказа, ₽
A4: Абсорбер переднего бампера Baic U5 Plus 2021-Н.В. (Китай) | B4: BAU5PIAA8 | C4: A00090719 | D4: Абсорбер переднего бампера Baic U5 Plus 2021-Н.В. (Китай) | E4: 2 | F4: 1460 | H4: =IF(G4="","",F4*MIN(G4,E4))
A5: Бампер задний Baic EU5 2018-Н.В. (Китай) | B5: BAU5PIA12 | C5: A00090720 | D5: Бампер задний Baic EU5 2018-Н.В. (Китай) | E5: 2 | F5: 3870 | H5: =IF(G5="","",F5*MIN(G5,E5))
A6: Бампер задний BAIC U5 PLUS (Китай) | B6: KP-BCU5-087-0 | C6: ASH003236 | D6: Бампер задний BAIC U5 PLUS (Китай) | E6: 3 | F6: 4810 | H6: =IF(G6="","",F6*MIN(G6,E6))
A7: Бампер передний Baic EU5 2018-Н.В. (Китай) | B7: BAU5PIA14 | C7: A00118956 | D7: Бампер передний Baic EU5 2018-Н.В. (Китай) | E7: 1 | F7: 4660 | H7: =IF(G7="","",F7*MIN(G7,E7))
A8: Бампер передний BAIC U5 PLUS (Китай) | B8: KP-BCU5-000-0 | C8: ASH003235 | D8: Бампер передний BAIC U5 PLUS (Китай) | E8: 5 | F8: 4570 | H8: =IF(G8="","",F8*MIN(G8,E8))
A9: Заглушка ДХО левая BAIC U5 PLUS (Китай) | B9: KP-BCU5-000G-2 | C9: A00109683 | D9: Заглушка ДХО левая BAIC U5 PLUS (Китай) | E9: 10 | F9: 530 | H9: =IF(G9="","",F9*MIN(G9,E9))
A10: Заглушка ДХО правая BAIC U5 PLUS (Китай) | B10: KP-BCU5-000G-1 | C10: A00108684 | D10: Заглушка ДХО правая BAIC U5 PLUS (Китай) | E10: 10 | F10: 530 | H10: =IF(G10="","",F10*MIN(G10,E10))
A11: Зеркало левое Baic U5 Plus 2021-Н.В. (Китай) | B11: KP-BCU5-940-2 | C11: ASH003072 | D11: Зеркало левое Baic U5 Plus 2021-Н.В. (Китай) | E11: 2 | F11: 4790 | H11: =IF(G11="","",F11*MIN(G11,E11))
A12: Зеркало правое Baic U5 Plus 2021-Н.В. (Китай) | B12: KP-BCU5-940-1 | C12: ASH003073 | D12: Зеркало правое Baic U5 Plus 2021-Н.В. (Китай) | E12: 3 | F12: 5340 | H12: =IF(G12="","",F12*MIN(G12,E12))
A13: Капот Baic U5 Plus 2021-Н.В. (Китай) | B13: BAU5PIA10 | C13: A00053079DY | D13: Капот Baic U5 Plus 2021-Н.В. (Китай) | E13: 1 | F13: 21700 | H13: =IF(G13="","",F13*MIN(G13,E13))
A14: Крепление правое переднего бампера Baic U5 Plus 2021-Н.В. | B14: KP-BCU5-000B-1 | C14: A00075981 | D14: Крепление правое переднего бампера Baic U5 Plus 2021-Н.В. | E14: 41 | F14: 280 | H14: =IF(G14="","",F14*MIN(G14,E14))
A15: Крепление фары левое BAIC U5 PLUS 2021- | B15: KP-BCU5-000B-A2 | C15: A00107722 | D15: Крепление фары левое BAIC U5 PLUS 2021- | E15: 10 | F15: 150 | H15: =IF(G15="","",F15*MIN(G15,E15))
... A33: Ходовой огонь правый BAIC U5 PLUS 2021- | B33: KP-16-BCU5-R | C33: A00110522 | D33: Ходовой огонь правый BAIC U5 PLUS 2021- | E33: 5 | F33: 7210 | H33: =IF(G33="","",F33*MIN(G33,E33))
D34: ИТОГО ЗАКАЗ | G34: =SUM(G4:G33) | H34: =SUM(H4:H33)
A36: Как заказать: впишите нужное количество в жёлтый столбец «Заказать» — сумма посчитается сама. Сохраните файл и отправьте нам. Товар в наличии на складе в Челябинске, цена за 1 шт., отгрузка после оплаты.
A37: Если заказать больше, чем есть в наличии, ячейка станет оранжевой, а сумма посчитается по наличию.

Sheet 03 BMW
A1: Лот № 3 — BMW
A2: ← к сводке лотов
A3: Марка / модель | B3: Артикул | C3: Оригинальный номер | D3: Наименование детали | E3: В наличии, шт | F3: Оптовая цена, ₽ | G3: Заказать, шт | H3: Сумма заказа, ₽
A4: BMW 1 Series E87 2004-2007 | B4: UBH01-23210 | C4: 51117151823 | D4: Бампер передний с отверстиями под омыватели | E4: 2 | F4: 6930 | H4: =IF(G4="","",F4*MIN(G4,E4))
A5: BMW 1 Series E87 2004-2007 | B5: BM04025MALN | C5: 51117136635 | D5: Молдинг переднего бампера левый | E5: 1 | F5: 1050 | H5: =IF(G5="","",F5*MIN(G5,E5))
A6: BMW 1 Series E87 2004-2007 | B6: UBH01-32112 | C6: 51137077130 | D6: Решетка радиатора правая | E6: 5 | F6: 310 | H6: =IF(G6="","",F6*MIN(G6,E6))
A7: BMW 1Series 2004-2011 | B7: BM03001A | C7: 51647058593 | D7: Рамка радиатора | E7: 2 | F7: 6300 | H7: =IF(G7="","",F7*MIN(G7,E7))
A8: BMW 1Series E87 2004-2007 | B8: UBH01-25313 | C8: 51117136635 | D8: Молдинг переднего бампера левый под парктроники | E8: 5 | F8: 240 | H8: =IF(G8="","",F8*MIN(G8,E8))
A9: BMW 1Series E87 2004-2007 | B9: BM04025MARN | C9: 51117136636 | D9: Молдинг переднего бампера правый | E9: 3 | F9: 350 | H9: =IF(G9="","",F9*MIN(G9,E9))
A10: BMW 1Series E87 2004-2007 | B10: UBH01-25314 | C10: 51117136636 | D10: Молдинг переднего бампера правый под парктроники | E10: 4 | F10: 590 | H10: =IF(G10="","",F10*MIN(G10,E10))
A11: BMW 1Series E87 2004-2007 | B11: UBH01-32111 | C11: 51137077129 | D11: Решетка радиатора левая | E11: 5 | F11: 310 | H11: =IF(G11="","",F11*MIN(G11,E11))
A12: BMW 1Series Е81 / E87 2007-2011 | B12: BM04048MALV | C12: 51117185133 | D12: Молдинг переднего бампера левый под парктроники | E12: 5 | F12: 1350 | H12: =IF(G12="","",F12*MIN(G12,E12))
A13: BMW 1Series Е81 / E87 2007-2011 | B13: BM04048MARV | C13: 51117185134 | D13: Молдинг переднего бампера правый под парктроники | E13: 5 | F13: 1580 | H13: =IF(G13="","",F13*MIN(G13,E13))
A14: BMW 3Series E36 1990-2000 | B14: BM11009BL | C14: 51718151561 | D14: Подкрылок левый передний | E14: 5 | F14: 580 | H14: =IF(G14="","",F14*MIN(G14,E14))
A15: BMW 3Series E36 1990-2000 | B15: BM11009BR | C15: 51718151562 | D15: Подкрылок правый передний | E15: 5 | F15: 580 | H15: =IF(G15="","",F15*MIN(G15,E15))
... A44: BMW X5 2003-2006 | B44: UBK01-32420 | C44: 51137113733 | D44: Решетка радиатора комплект | E44: 1 | F44: 3870 | H44: =IF(G44="","",F44*MIN(G44,E44))
D45: ИТОГО ЗАКАЗ | G45: =SUM(G4:G44) | H45: =SUM(H4:H44)
A47: Как заказать: впишите нужное количество в жёлтый столбец «Заказать» — сумма посчитается сама. Сохраните файл и отправьте нам. Товар в наличии на складе в Челябинске, цена за 1 шт., отгрузка после оплаты.
A48: Если заказать больше, чем есть в наличии, ячейка станет оранжевой, а сумма посчитается по наличию.

Sheet 04 Changan
A1: Лот № 4 — Changan
A2: ← к сводке лотов
A3: Марка / модель | B3: Артикул | C3: Оригинальный номер | D3: Наименование детали | E3: В наличии, шт | F3: Оптовая цена, ₽ | G3: Заказать, шт | H3: Сумма заказа, ₽
A4: Бампер задний (спойлер бампера) Changan Alsvin 2018- (Китай) | B4: ALS1859 | C4: B511F271303-0300 | D4: Бампер задний (спойлер бампера) Changan Alsvin 2018- (Китай) | E4: 4 | F4: 580 | H4: =IF(G4="","",F4*MIN(G4,E4))
A5: Бампер задний Changan Alsvin 2018-Н.В. (Китай) | B5: KP-CHNGALS-087-0 | C5: B511F271303-0200 | D5: Бампер задний Changan Alsvin 2018-Н.В. (Китай) | E5: 5 | F5: 1930 | H5: =IF(G5="","",F5*MIN(G5,E5))
A6: Бампер задний Changan UNI-K 2020-Н.В. (Китай) | B6: UNIK2056 | C6: CD569F271303-1900 | D6: Бампер задний Changan UNI-K 2020-Н.В. (Китай) | E6: 5 | F6: 3430 | H6: =IF(G6="","",F6*MIN(G6,E6))
A7: Бампер задний верхняя часть Changan UNI-T 2023- (Китай) | B7: UNIT2056B | C7: S202F271303-1200 | D7: Бампер задний верхняя часть Changan UNI-T 2023- (Китай) | E7: 3 | F7: 1800 | H7: =IF(G7="","",F7*MIN(G7,E7))
A8: Бампер задний нижняя часть Changan UNI-K 2020- (Китай) | B8: UNIK2010R | C8: CD569F271303-1500 | D8: Бампер задний нижняя часть Changan UNI-K 2020- (Китай) | E8: 6 | F8: 1690 | H8: =IF(G8="","",F8*MIN(G8,E8))
A9: Бампер задний нижняя часть Changan UNI-T 2023- (Китай) | B9: UNIT2056A | C9: S202F271303-1301 | D9: Бампер задний нижняя часть Changan UNI-T 2023- (Китай) | E9: 4 | F9: 1090 | H9: =IF(G9="","",F9*MIN(G9,E9))
A10: Бампер передний Changan UNI-K 2020- (Китай) | B10: UNIK2032 | C10: CD569F271301-1400 | D10: Бампер передний Changan UNI-K 2020- (Китай) | E10: 4 | F10: 4900 | H10: =IF(G10="","",F10*MIN(G10,E10))
A11: Бампер передний Changan UNI-T 2023-Н.В. (Китай) | B11: UNIT2032A | C11: S202F2713011000 | D11: Бампер передний Changan UNI-T 2023-Н.В. (Китай) | E11: 2 | F11: 2090 | H11: =IF(G11="","",F11*MIN(G11,E11))
A12: Заглушка бампера переднего крюка буксировочного Changan UNI-V 2022- | B12: KP-CHNGUNIV-000C-0 | C12: C281F271301-2500 | D12: Заглушка бампера переднего крюка буксировочного Changan UNI-V 2022- | E12: 10 | F12: 160 | H12: =IF(G12="","",F12*MIN(G12,E12))
A13: Заглушка левая под туманку Changan UNI-V 2021- | B13: KP-CHNGUNIV-219-2 | C13: C281F271301-1700 | D13: Заглушка левая под туманку Changan UNI-V 2021- | E13: 5 | F13: 850 | H13: =IF(G13="","",F13*MIN(G13,E13))
A14: Заглушка переднего бампера под крюк Changan Alsvin 2018-Н.В. (китай) | B14: ALS1807F | C14: 2803109-BS01 | D14: Заглушка переднего бампера под крюк Changan Alsvin 2018-Н.В. (китай) | E14: 10 | F14: 70 | H14: =IF(G14="","",F14*MIN(G14,E14))
A15: Заглушка правая под туманку Changan UNI-V 2021- | B15: KP-CHNGUNIV-219-1 | C15: C281F271301-1800 | D15: Заглушка правая под туманку Changan UNI-V 2021- | E15: 5 | F15: 870 | H15: =IF(G15="","",F15*MIN(G15,E15))
... A69: Фонарь внутренний правый Changan Alsvin 2018- | B69: KP-13-CHNGALSR | C69: B511F280503-0700 | D69: Фонарь внутренний правый Changan Alsvin 2018- | E69: 5 | F69: 2210 | H69: =IF(G69="","",F69*MIN(G69,E69))
D70: ИТОГО ЗАКАЗ | G70: =SUM(G4:G69) | H70: =SUM(H4:H69)
A72: Как заказать: впишите нужное количество в жёлтый столбец «Заказать» — сумма посчитается сама. Сохраните файл и отправьте нам. Товар в наличии на складе в Челябинске, цена за 1 шт., отгрузка после оплаты.
A73: Если заказать больше, чем есть в наличии, ячейка станет оранжевой, а сумма посчитается по наличию.

Sheet 05 Chery
A1: Лот № 5 — Chery
A2: ← к сводке лотов
A3: Марка / модель | B3: Артикул | C3: Оригинальный номер | D3: Наименование детали | E3: В наличии, шт | F3: Оптовая цена, ₽ | G3: Заказать, шт | H3: Сумма заказа, ₽
A4: Chery Amulet 2003-2010 | B4: KP-CHA15-087-0 | C4: A15-2804600-DQ | D4: Бампер задний | E4: 3 | F4: 4330 | H4: =IF(G4="","",F4*MIN(G4,E4))
A5: Chery Amulet 2003-2010 | B5: KP-CHA15-016-2 | C5: A15-8403010BB-DY | D5: Крыло левое | E5: 4 | F5: 2770 | H5: =IF(G5="","",F5*MIN(G5,E5))
A6: Chery Amulet 2003-2010 (TERMAL) | B6: 104668 | C6: A15-8105010 | D6: Радиатор кондиционера | E6: 1 | F6: 3330 | H6: =IF(G6="","",F6*MIN(G6,E6))
A7: Chery Arrizo 8 2022 | B7: KP-CHARZ-000-0 | C7: 602002314AA | D7: Бампер передний | E7: 6 | F7: 2470 | H7: =IF(G7="","",F7*MIN(G7,E7))
A8: Chery Arrizo 8 2022 | B8: 602002326AA | C8: 602002326AA | D8: Воздуховод переднего бампера левый | E8: 2 | F8: 1040 | H8: =IF(G8="","",F8*MIN(G8,E8))
A9: Chery Arrizo 8 2022 | B9: 602002327AA | C9: 602002327AA | D9: Воздуховод переднего бампера правый | E9: 2 | F9: 1040 | H9: =IF(G9="","",F9*MIN(G9,E9))
A10: Chery Arrizo 8 2022 | B10: KP-CHARZ-000C-0 | C10: 602002308AA | D10: Заглушка под крюк заднего бампера | E10: 10 | F10: 100 | H10: =IF(G10="","",F10*MIN(G10,E10))
A11: Chery Arrizo 8 2022 | B11: 602002318AACE | C11: 602002318AACE | D11: Заглушка туманки левая | E11: 2 | F11: 1350 | H11: =IF(G11="","",F11*MIN(G11,E11))
A12: Chery Arrizo 8 2022 | B12: 602002319AACE | C12: 602002319AACE | D12: Заглушка туманки правая | E12: 2 | F12: 1350 | H12: =IF(G12="","",F12*MIN(G12,E12))
A13: Chery Arrizo 8 2022 | B13: KP-CHARZ-025-0 | C13: 602002333AA | D13: Защита бампера | E13: 10 | F13: 530 | H13: =IF(G13="","",F13*MIN(G13,E13))
A14: Chery Arrizo 8 2022 | B14: KP-CHARZ-015-0 | C14: 553000173AADYJ | D14: Капот | E14: 3 | F14: 8650 | H14: =IF(G14="","",F14*MIN(G14,E14))
A15: Chery Arrizo 8 2022 | B15: KP-CHARZ-000B-2 | C15: 602001599AA | D15: Крепление левое переднего бампера | E15: 10 | F15: 160 | H15: =IF(G15="","",F15*MIN(G15,E15))
... A120: Chery Tiggo T11 2013-2016 | B120: KP-CHTGT13-016L-1 | C120: T11-3102062PF | D120: Подкрылок правый передний | E120: 5 | F120: 320 | H120: =IF(G120="","",F120*MIN(G120,E120))
D121: ИТОГО ЗАКАЗ | G121: =SUM(G4:G120) | H121: =SUM(H4:H120)
A123: Как заказать: впишите нужное количество в жёлтый столбец «Заказать» — сумма посчитается сама. Сохраните файл и отправьте нам. Товар в наличии на складе в Челябинске, цена за 1 шт., отгрузка после оплаты.
A124: Если заказать больше, чем есть в наличии, ячейка станет оранжевой, а сумма посчитается по наличию.

Sheet 06 Chevrolet
A1: Лот № 6 — Chevrolet
A2: ← к сводке лотов
A3: Марка / модель | B3: Артикул | C3: Оригинальный номер | D3: Наименование детали | E3: В наличии, шт | F3: Оптовая цена, ₽ | G3: Заказать, шт | H3: Сумма заказа, ₽
A4: Chevrolet Aveo (T200) 2002-2008 Hatch | B4: SV550356 | C4: 96543017 | D4: Бампер задний | E4: 3 | F4: 3200 | H4: =IF(G4="","",F4*MIN(G4,E4))
A5: Chevrolet Aveo (T200) 2002-2009 | B5: AGC93-19111 | C5: 96542971 | D5: Подкрылок левый | E5: 18 | F5: 560 | H5: =IF(G5="","",F5*MIN(G5,E5))
A6: Chevrolet Aveo (T200) 2002-2009 | B6: AGC93-19112 | C6: 96496758 | D6: Подкрылок правый | E6: 18 | F6: 560 | H6: =IF(G6="","",F6*MIN(G6,E6))
A7: Chevrolet Aveo (T250) 2005-2012 | B7: 03-A250-05C2L | C7: 96648783 | D7: Оправа туманки левая хром | E7: 1 | F7: 400 | H7: =IF(G7="","",F7*MIN(G7,E7))
A8: Chevrolet Aveo (T250) 2005-2012 | B8: CV11105AL | C8: 96464954 | D8: Подкрылок левый | E8: 13 | F8: 560 | H8: =IF(G8="","",F8*MIN(G8,E8))
A9: Chevrolet Aveo (T250) 2005-2012 | B9: CV11105AR | C9: 96648531 | D9: Подкрылок правый | E9: 8 | F9: 550 | H9: =IF(G9="","",F9*MIN(G9,E9))
A10: Chevrolet Aveo (T250) 2005-2012 (Отломан отражатель) Дисконт 15% | B10: 03-A250-01M1RUC | C10: 96650522 | D10: Фара правая механический корректор | E10: 1 | F10: 1730 | H10: =IF(G10="","",F10*MIN(G10,E10))
A11: Chevrolet Aveo (T250) 2005-2012 GAR Carbon Flash (Черно-зеленый металлик) | B11: GMBF-0032GAR | C11: 96648503 | D11: Бампер передний | E11: 1 | F11: 3630 | H11: =IF(G11="","",F11*MIN(G11,E11))
A12: Chevrolet Aveo (T250) 2005-2012 Дисконт 10% | B12: 03-A250-07B2UC | C12: 96648529 | D12: Решетка радиатора | E12: 1 | F12: 1020 | H12: =IF(G12="","",F12*MIN(G12,E12))
A13: Chevrolet Aveo (T250) 2006-2012 | B13: AGC95-18111 | C13: 95971444 | D13: Петля капота левая | E13: 4 | F13: 120 | H13: =IF(G13="","",F13*MIN(G13,E13))
A14: Chevrolet Aveo (T250) 2006-2012 | B14: AGC95-18112 | C14: 95971445 | D14: Петля капота правая | E14: 2 | F14: 240 | H14: =IF(G14="","",F14*MIN(G14,E14))
A15: Chevrolet Aveo (T255) 2007-2012 | B15: ST-235-1105L-LD-EN | C15: 96650754 | D15: Фара левая механический корректор (светло-серый корпус) | E15: 1 | F15: 3000 | H15: =IF(G15="","",F15*MIN(G15,E15))
... A83: Chevrolet Spark М200 2005-2010 | B83: CV11115AL | C83: 96590723 | D83: Подкрылок левый | E83: 2 | F83: 600 | H83: =IF(G83="","",F83*MIN(G83,E83))
D84: ИТОГО ЗАКАЗ | G84: =SUM(G4:G83) | H84: =SUM(H4:H83)
A86: Как заказать: впишите нужное количество в жёлтый столбец «Заказать» — сумма посчитается сама. Сохраните файл и отправьте нам. Товар в наличии на складе в Челябинске, цена за 1 шт., отгрузка после оплаты.
A87: Если заказать больше, чем есть в наличии, ячейка станет оранжевой, а сумма посчитается по наличию.

Sheet 07 Citroen
A1: Лот № 7 — Citroen
A2: ← к сводке лотов
A3: Марка / модель | B3: Артикул | C3: Оригинальный номер | D3: Наименование детали | E3: В наличии, шт | F3: Оптовая цена, ₽ | G3: Заказать, шт | H3: Сумма заказа, ₽
A4: Citroen C3 / DS-3 2010-2013 | B4: CT10024AR | C4: 7841-Z7 | D4: Крыло правое | E4: 1 | F4: 2280 | H4: =IF(G4="","",F4*MIN(G4,E4))
A5: Citroen C3 2002-2009 | B5: CT10010AR | C5: 7841P4 | D5: Крыло правое | E5: 1 | F5: 2580 | H5: =IF(G5="","",F5*MIN(G5,E5))
A6: Citroen C3 2005-2010 | B6: CT120000R-1000 | C6: 7414RR | D6: Усилитель переднего бампера | E6: 1 | F6: 2610 | H6: =IF(G6="","",F6*MIN(G6,E6))
A7: Citroen C4 2004-2011 | B7: 20-A664-05-2B | C7: 6206.53 | D7: Фара левая с электрическим корректором | E7: 1 | F7: 9090 | H7: =IF(G7="","",F7*MIN(G7,E7))
A8: Citroen C4 2004-2011 | B8: 20-A663-05-2B | C8: 6206.53 | D8: Фара правая с электрическим корректором | E8: 2 | F8: 9090 | H8: =IF(G8="","",F8*MIN(G8,E8))
A9: Citroen C4 2008-2011 | B9: ST-CT25-000G-B0 | C9: ST-CT25-000G-B0 | D9: Решетка в бампер | E9: 2 | F9: 570 | H9: =IF(G9="","",F9*MIN(G9,E9))
A10: Citroen C4 2010-2013 | B10: 11-C136-01-2B | C10: 6350-KS | D10: Фонарь левый задний | E10: 4 | F10: 6050 | H10: =IF(G10="","",F10*MIN(G10,E10))
A11: Citroen C4 2010-2013 | B11: 11-C135-01-2B | C11: 6351-KS | D11: Фонарь правый задний | E11: 4 | F11: 6050 | H11: =IF(G11="","",F11*MIN(G11,E11))
A12: Citroen C4 2010-2015 5D | B12: CT07026GAV | C12: 7422R5 | D12: Решетка в бампер | E12: 1 | F12: 2460 | H12: =IF(G12="","",F12*MIN(G12,E12))
A13: Усилитель переднего бампера Сitroen C3 2001-2005 (Тайвань) | B13: CR1217A | C13: 7414.QH | D13: Усилитель переднего бампера Сitroen C3 2001-2005 (Тайвань) | E13: 1 | F13: 2200 | H13: =IF(G13="","",F13*MIN(G13,E13))
D14: ИТОГО ЗАКАЗ | G14: =SUM(G4:G13) | H14: =SUM(H4:H13)
A16: Как заказать: впишите нужное количество в жёлтый столбец «Заказать» — сумма посчитается сама. Сохраните файл и отправьте нам. Товар в наличии на складе в Челябинске, цена за 1 шт., отгрузка после оплаты.
A17: Если заказать больше, чем есть в наличии, ячейка станет оранжевой, а сумма посчитается по наличию.

Sheet 08 Dacia
A1: Лот № 8 — Dacia
A2: ← к сводке лотов
A3: Марка / модель | B3: Артикул | C3: Оригинальный номер | D3: Наименование детали | E3: В наличии, шт | F3: Оптовая цена, ₽ | G3: Заказать, шт | H3: Сумма заказа, ₽
A4: Dacia Duster 2013-2017 | B4: PU-DA-DUS2 | C4: 622540347R | D4: Решетка в бампер | E4: 5 | F4: 2550 | H4: =IF(G4="","",F4*MIN(G4,E4))
A5: Dacia Duster 2017-2021 (без выреза под значок Renault) | B5: DC5AA01A | C5: 651008347R | D5: Капот | E5: 1 | F5: 17740 | H5: =IF(G5="","",F5*MIN(G5,E5))
A6: Dacia Duster 2017-2021 (Замятие) Дисконт 20% | B6: DC5AA01AUC | C6: 651008347R | D6: Капот | E6: 1 | F6: 17740 | H6: =IF(G6="","",F6*MIN(G6,E6))
A7: Dacia Duster 2018 | B7: P1-DA-DUS3 | C7: 620228952R | D7: Бампер перед | E7: 1 | F7: 5610 | H7: =IF(G7="","",F7*MIN(G7,E7))
D8: ИТОГО ЗАКАЗ | G8: =SUM(G4:G7) | H8: =SUM(H4:H7)
A10: Как заказать: впишите нужное количество в жёлтый столбец «Заказать» — сумма посчитается сама. Сохраните файл и отправьте нам. Товар в наличии на складе в Челябинске, цена за 1 шт., отгрузка после оплаты.
A11: Если заказать больше, чем есть в наличии, ячейка станет оранжевой, а сумма посчитается по наличию.

Sheet 09 Daewoo
A1: Лот № 9 — Daewoo
A2: ← к сводке лотов
A3: Марка / модель | B3: Артикул | C3: Оригинальный номер | D3: Наименование детали | E3: В наличии, шт | F3: Оптовая цена, ₽ | G3: Заказать, шт | H3: Сумма заказа, ₽
A4: DAEWOO MATIZ / CHEVROLET SPARK 01 | B4: ST-DW10-102-0 | C4: 96 591 467 | D4: Бачок расширительный | E4: 1 | F4: 950 | H4: =IF(G4="","",F4*MIN(G4,E4))
A5: Daewoo Matiz 1997-2009 (TERMAL) | B5: 104751Y | C5: 96569392 | D5: Радиатор кондиционера | E5: 1 | F5: 2690 | H5: =IF(G5="","",F5*MIN(G5,E5))
A6: Daewoo Matiz 2000-2015 | B6: DW04007BAZ | C6: 96562595 | D6: Бампер задний | E6: 3 | F6: 2540 | H6: =IF(G6="","",F6*MIN(G6,E6))
A7: Daewoo Matiz 2000-2015 | B7: KCG02-19111 | C7: 96562644 | D7: Подкрылок левый | E7: 10 | F7: 560 | H7: =IF(G7="","",F7*MIN(G7,E7))
A8: Daewoo Matiz 2000-2015 | B8: KCG02-19112 | C8: 96562645 | D8: Подкрылок правый | E8: 11 | F8: 550 | H8: =IF(G8="","",F8*MIN(G8,E8))
A9: Daewoo Matiz 2001- | B9: 222-1917R-LD-UE | C9: 96563515 | D9: Фонарь правый | E9: 1 | F9: 2070 | H9: =IF(G9="","",F9*MIN(G9,E9))
A10: Daewoo Matiz 2001- Левая | B10: ST-222-2011L | C10: 96563277 | D10: Туманка | E10: 1 | F10: 640 | H10: =IF(G10="","",F10*MIN(G10,E10))
A11: Daewoo Matiz 2001- Правая | B11: ST-222-2011R | C11: 96563278 | D11: Туманка | E11: 1 | F11: 640 | H11: =IF(G11="","",F11*MIN(G11,E11))
A12: Daewoo Nexia 1996-2016 | B12: DW1501A | C12: K96169572 | D12: Капот | E12: 2 | F12: 8300 | H12: =IF(G12="","",F12*MIN(G12,E12))
A13: Daewoo Nexia 1996-2016 | B13: DW2500160-0R00 | C13: 96208090 | D13: Крыло правое с отверстием под повторитель | E13: 1 | F13: 3450 | H13: =IF(G13="","",F13*MIN(G13,E13))
A14: Daewoo Nexia 2008-2016 | B14: DW410856 | C14: S3041101 | D14: Бампер задний | E14: 7 | F14: 2340 | H14: =IF(G14="","",F14*MIN(G14,E14))
A15: Daewoo Nexia 2008-2016 | B15: DW410837 | C15: S3052021 | D15: Решетка радиатора | E15: 6 | F15: 620 | H15: =IF(G15="","",F15*MIN(G15,E15))
... A19: DAEWOO NUBIRA 1.6-2.0 97-/LEGANZA 2.0 97- (SAT / Отломлена трубка) Дисконт 50% | B19: DW0004-2.0UC | C19: 96273594 | D19: Радиатор | E19: 1 | F19: 3050 | H19: =IF(G19="","",F19*MIN(G19,E19))
D20: ИТОГО ЗАКАЗ | G20: =SUM(G4:G19) | H20: =SUM(H4:H19)
A22: Как заказать: впишите нужное количество в жёлтый столбец «Заказать» — сумма посчитается сама. Сохраните файл и отправьте нам. Товар в наличии на складе в Челябинске, цена за 1 шт., отгрузка после оплаты.
A23: Если заказать больше, чем есть в наличии, ячейка станет оранжевой, а сумма посчитается по наличию.

Sheet 10 Exeed
A1: Лот № 10 — Exeed
A2: ← к сводке лотов
A3: Марка / модель | B3: Артикул | C3: Оригинальный номер | D3: Наименование детали | E3: В наличии, шт | F3: Оптовая цена, ₽ | G3: Заказать, шт | H3: Сумма заказа, ₽
A4: Бампер передний Exeed TXL 2021-Н.В. (Китай) | B4: CHTXL32A | C4: 602001294AADQJ | D4: Бампер передний Exeed TXL 2021-Н.В. (Китай) | E4: 2 | F4: 5470 | H4: =IF(G4="","",F4*MIN(G4,E4))
A5: Крыло переднее левое Exeed LX 2021-Н.В (Китай) | B5: OCHLX1925FL | C5: 509000115AADYJ | D5: Крыло переднее левое Exeed LX 2021-Н.В (Китай) | E5: 2 | F5: 6490 | H5: =IF(G5="","",F5*MIN(G5,E5))
A6: Крыло переднее правое Exeed LX 2021-Н.В (Китай) | B6: OCHLX1925FR | C6: 509000116AADYJ | D6: Крыло переднее правое Exeed LX 2021-Н.В (Китай) | E6: 2 | F6: 6490 | H6: =IF(G6="","",F6*MIN(G6,E6))
A7: Молдинг оправы противотуманной фары левый Exeed TXL 2020-2024 (Китай) | B7: CHTXL77AL | C7: 602001301AA | D7: Молдинг оправы противотуманной фары левый Exeed TXL 2020-2024 (Китай) | E7: 5 | F7: 1150 | H7: =IF(G7="","",F7*MIN(G7,E7))
A8: Молдинг оправы противотуманной фары правая Exeed TXL 2020-2024 (Китай) | B8: CHTXL77AR | C8: 602001302AA | D8: Молдинг оправы противотуманной фары правая Exeed TXL 2020-2024 (Китай) | E8: 5 | F8: 1150 | H8: =IF(G8="","",F8*MIN(G8,E8))
A9: Фонарь левый Exeed TXL 2021-Н.В. (Китай) | B9: CHTXL70L | C9: 605000047AA | D9: Фонарь левый Exeed TXL 2021-Н.В. (Китай) | E9: 2 | F9: 8510 | H9: =IF(G9="","",F9*MIN(G9,E9))
A10: Фонарь правый Exeed TXL 2021-Н.В. (Китай) | B10: CHTXL70R | C10: 605000046AA | D10: Фонарь правый Exeed TXL 2021-Н.В. (Китай) | E10: 2 | F10: 8510 | H10: =IF(G10="","",F10*MIN(G10,E10))
D11: ИТОГО ЗАКАЗ | G11: =SUM(G4:G10) | H11: =SUM(H4:H10)
A13: Как заказать: впишите нужное количество в жёлтый столбец «Заказать» — сумма посчитается сама. Сохраните файл и отправьте нам. Товар в наличии на складе в Челябинске, цена за 1 шт., отгрузка после оплаты.
A14: Если заказать больше, чем есть в наличии, ячейка станет оранжевой, а сумма посчитается по наличию.

Sheet 11 Ford
A1: Лот № 11 — Ford
A2: ← к сводке лотов
A3: Марка / модель | B3: Артикул | C3: Оригинальный номер | D3: Наименование детали | E3: В наличии, шт | F3: Оптовая цена, ₽ | G3: Заказать, шт | H3: Сумма заказа, ₽
A4: Ford (AP074/4 / Filtron) | B4: AP074/4 | D4: Фильтр воздушный | E4: 1 | F4: 660 | H4: =IF(G4="","",F4*MIN(G4,E4))
A5: Ford Ecosport 2012-2016 Дисконт 20% | B5: FD6J01AUC | C5: 1820869 | D5: Капот | E5: 1 | F5: 9020 | H5: =IF(G5="","",F5*MIN(G5,E5))
A6: Ford Fiesta 2001-2005 | B6: FD04184BA | C6: 1372809 | D6: Бампер передний | E6: 4 | F6: 2890 | H6: =IF(G6="","",F6*MIN(G6,E6))
A7: Ford Fiesta 2001-2005 | B7: 99658 | C7: 1346646 | D7: Капот | E7: 8 | F7: 3420 | H7: =IF(G7="","",F7*MIN(G7,E7))
A8: Ford Fiesta 2001-2005 | B8: ST-FDV3-219-2 | C8: 1 337 346 | D8: Оправа туманки левая | E8: 1 | F8: 810 | H8: =IF(G8="","",F8*MIN(G8,E8))
A9: Ford Fiesta 2005-2008 | B9: FD113000G-2R00 | C9: 1440910 | D9: Заглушка туманки правая черная | E9: 4 | F9: 290 | H9: =IF(G9="","",F9*MIN(G9,E9))
A10: Ford Fiesta 2005-2008 | B10: UFC07-34110 | C10: 1424462 | D10: Решетка в бампер | E10: 4 | F10: 590 | H10: =IF(G10="","",F10*MIN(G10,E10))
A11: Ford Fiesta 2008-2012 (SAT) | B11: ST-FDV4-013-0 | C11: 1530764 | D11: Бампер передний (спойлер) | E11: 1 | F11: 1210 | H11: =IF(G11="","",F11*MIN(G11,E11))
A12: Ford Focus 1998-2002 | B12: 431-2005L-UE | C12: 1346660 | D12: Туманка левая | E12: 2 | F12: 1390 | H12: =IF(G12="","",F12*MIN(G12,E12))
A13: Ford Focus 1998-2008 HBK | B13: 431-4001L-LD-UE | C13: 1 147 520 | D13: Фонарь в задний бампер левый | E13: 1 | F13: 770 | H13: =IF(G13="","",F13*MIN(G13,E13))
A14: Ford Focus 4D 11-15 Левый (11-B850-01-2BUC) Дисконт 20% | B14: 11-B850-01-2BUC | C14: 1785487 | D14: Фонарь задний левое | E14: 1 | F14: 3120 | H14: =IF(G14="","",F14*MIN(G14,E14))
A15: Ford Focus C-MAX 2003-2010 | B15: FD03016A | C15: 1508632 | D15: Рамка радиатора | E15: 1 | F15: 5820 | H15: =IF(G15="","",F15*MIN(G15,E15))
A16: Ford Focus I 1998-2001 | B16: FR417-U000L | C16: 1202349 | D16: Туманка левая | E16: 5 | F16: 810 | H16: =IF(G16="","",F16*MIN(G16,E16))
... A89: Ford Transit 2006-2014 | B89: UFV07-32110 | C89: 1437328 | D89: Решетка радиатора (внутренняя) | E89: 3 | F89: 1690 | H89: =IF(G89="","",F89*MIN(G89,E89))
D90: ИТОГО ЗАКАЗ | G90: =SUM(G4:G89) | H90: =SUM(H4:H89)
A92: Как заказать: впишите нужное количество в жёлтый столбец «Заказать» — сумма посчитается сама. Сохраните файл и отправьте нам. Товар в наличии на складе в Челябинске, цена за 1 шт., отгрузка после оплаты.
A93: Если заказать больше, чем есть в наличии, ячейка станет оранжевой, а сумма посчитается по наличию.

Sheet 12 Geely
A1: Лот № 12 — Geely
A2: ← к сводке лотов
A3: Марка / модель | B3: Артикул | C3: Оригинальный номер | D3: Наименование детали | E3: В наличии, шт | F3: Оптовая цена, ₽ | G3: Заказать, шт | H3: Сумма заказа, ₽
A4: Бампер задний верх Geely Atlas 16- (Китай) | B4: GEAT1656A | C4: 6044006200 | D4: Бампер задний верх Geely Atlas 16- (Китай) | E4: 4 | F4: 1150 | H4: =IF(G4="","",F4*MIN(G4,E4))
A5: Бампер передний Geely Monjaro 2021- (Китай) | B5: KP-GLMNJ-000-0 | C5: 6010173200 | D5: Бампер передний Geely Monjaro 2021- (Китай) | E5: 2 | F5: 1690 | H5: =IF(G5="","",F5*MIN(G5,E5))
A6: Бампер передний верх Geely Atlas 2016- (Трещина сверху) Дисконт 20% | B6: GEAT1632BUC | C6: 6010009400 | D6: Бампер передний верх Geely Atlas 2016- (Трещина сверху) Дисконт 20% | E6: 1 | F6: 1920 | H6: =IF(G6="","",F6*MIN(G6,E6))
A7: Бампер передний верх Geely Coolray 2018- (GECO1932UC / Трещина) Дисконт 10% | B7: GECO1932UC | C7: 6010091900,6010101700,6600248426 | D7: Бампер передний верх Geely Coolray 2018- (GECO1932UC / Трещина) Дисконт 10% | E7: 1 | F7: 3220 | H7: =IF(G7="","",F7*MIN(G7,E7))
A8: Бампер передний нижняя часть Geely Atlas 2016- (Китай) | B8: GEAT1632L | C8: 6010009200661 | D8: Бампер передний нижняя часть Geely Atlas 2016- (Китай) | E8: 1 | F8: 1460 | H8: =IF(G8="","",F8*MIN(G8,E8))
A9: Заглушка заднего бампера под крюк Geely Monjaro 2021- | B9: KP-GLMNJ-087C-0 | C9: 6044127400 | D9: Заглушка заднего бампера под крюк Geely Monjaro 2021- | E9: 10 | F9: 110 | H9: =IF(G9="","",F9*MIN(G9,E9))
A10: Заглушка левая под туманку Geely Atlas 2016-2022 | B10: KP-GLATS-219-2 | C10: 6010008900901 | D10: Заглушка левая под туманку Geely Atlas 2016-2022 | E10: 12 | F10: 250 | H10: =IF(G10="","",F10*MIN(G10,E10))
A11: Заглушка правая под туманку Geely Atlas 2016-2022 | B11: KP-GLATS-219-1 | C11: 6010008700901 | D11: Заглушка правая под туманку Geely Atlas 2016-2022 | E11: 10 | F11: 290 | H11: =IF(G11="","",F11*MIN(G11,E11))
A12: Заглушка туманки переднего бампера левая Geely Emgrand 2021- | B12: KP-GLEMD-000G-2 | C12: 6010183000 | D12: Заглушка туманки переднего бампера левая Geely Emgrand 2021- | E12: 3 | F12: 170 | H12: =IF(G12="","",F12*MIN(G12,E12))
A13: Заглушка туманки переднего бампера правая Geely Emgrand 2021- | B13: KP-GLEMD-000G-1 | C13: 6010182900 | D13: Заглушка туманки переднего бампера правая Geely Emgrand 2021- | E13: 2 | F13: 170 | H13: =IF(G13="","",F13*MIN(G13,E13))
A14: Защита под бампер Geely Monjaro 2021- (Китай) | B14: KP-GLMNJ-025-0 | C14: 6010178000 | D14: Защита под бампер Geely Monjaro 2021- (Китай) | E14: 5 | F14: 800 | H14: =IF(G14="","",F14*MIN(G14,E14))
A15: Зеркало левое 6 контактов Geely Atlas 2016- | B15: KP-GLATS-940-2 | C15: 6017005800 | D15: Зеркало левое 6 контактов Geely Atlas 2016- | E15: 5 | F15: 2530 | H15: =IF(G15="","",F15*MIN(G15,E15))
... A83: Фонарь правый внутренний Geely Atlas 2016- (Китай) | B83: GEAT1670IR | C83: 7057003100 | D83: Фонарь правый внутренний Geely Atlas 2016- (Китай) | E83: 4 | F83: 1890 | H83: =IF(G83="","",F83*MIN(G83,E83))
D84: ИТОГО ЗАКАЗ | G84: =SUM(G4:G83) | H84: =SUM(H4:H83)
A86: Как заказать: впишите нужное количество в жёлтый столбец «Заказать» — сумма посчитается сама. Сохраните файл и отправьте нам. Товар в наличии на складе в Челябинске, цена за 1 шт., отгрузка после оплаты.
A87: Если заказать больше, чем есть в наличии, ячейка станет оранжевой, а сумма посчитается по наличию.

Sheet 13 Haval
A1: Лот № 13 — Haval
A2: ← к сводке лотов
A3: Марка / модель | B3: Артикул | C3: Оригинальный номер | D3: Наименование детали | E3: В наличии, шт | F3: Оптовая цена, ₽ | G3: Заказать, шт | H3: Сумма заказа, ₽
A4: Бампер задний (верхняя часть) Haval M6 2021-Н.В. (Китай) | B4: HAM6II56A | C4: 2804101XKZ0YA | D4: Бампер задний (верхняя часть) Haval M6 2021-Н.В. (Китай) | E4: 1 | F4: 4160 | H4: =IF(G4="","",F4*MIN(G4,E4))
A5: Бампер задний (нижняя часть) Haval M6 2021-Н.В. (Китай) | B5: HAM6II69A | C5: 2804103XKZ0YA | D5: Бампер задний (нижняя часть) Haval M6 2021-Н.В. (Китай) | E5: 1 | F5: 3200 | H5: =IF(G5="","",F5*MIN(G5,E5))
A6: Бампер задний верх Haval Jolion 2020-2024 (Китай) | B6: KP-HVJL-087-0 | C6: 2804104XST01A | D6: Бампер задний верх Haval Jolion 2020-2024 (Китай) | E6: 4 | F6: 3350 | H6: =IF(G6="","",F6*MIN(G6,E6))
A7: Бампер передний (спойлер бампера) Haval Jolion 2020-2024 (Китай) | B7: KP-HVJL-013-0 | C7: 2803106XST01A | D7: Бампер передний (спойлер бампера) Haval Jolion 2020-2024 (Китай) | E7: 5 | F7: 1930 | H7: =IF(G7="","",F7*MIN(G7,E7))
A8: Бампер передний Haval Jolion 2020-2024 (Китай) | B8: 29-JLN23-03 | C8: 2803141XST01A | D8: Бампер передний Haval Jolion 2020-2024 (Китай) | E8: 6 | F8: 4900 | H8: =IF(G8="","",F8*MIN(G8,E8))
A9: Бампер передний верхняя часть Haval Dargo 2022- (Китай) | B9: HVL80310204 | C9: 2803102XKN04A | D9: Бампер передний верхняя часть Haval Dargo 2022- (Китай) | E9: 1 | F9: 3050 | H9: =IF(G9="","",F9*MIN(G9,E9))
A10: Дверь передняя левая под молдинг Haval Jolion 2020-2024 (Китай) | B10: 6101100XST01A | C10: 6101100XST01A | D10: Дверь передняя левая под молдинг Haval Jolion 2020-2024 (Китай) | E10: 1 | F10: 22510 | H10: =IF(G10="","",F10*MIN(G10,E10))
A11: Дверь передняя правая под молдинг Haval Jolion 2020-2024 (Китай) | B11: 6101200XST01A | C11: 6101200XST01A | D11: Дверь передняя правая под молдинг Haval Jolion 2020-2024 (Китай) | E11: 1 | F11: 22510 | H11: =IF(G11="","",F11*MIN(G11,E11))
A12: Заглушка левая под туманку Haval Dargo 2022- | B12: HADA2229AL | C12: 2803108XKN04A | D12: Заглушка левая под туманку Haval Dargo 2022- | E12: 11 | F12: 190 | H12: =IF(G12="","",F12*MIN(G12,E12))
A13: Заглушка левая под туманку Haval F7 2018-2022 | B13: KP-HVF7-219-2 | C13: 2803167XKQ00A8L | D13: Заглушка левая под туманку Haval F7 2018-2022 | E13: 11 | F13: 570 | H13: =IF(G13="","",F13*MIN(G13,E13))
A14: Заглушка правая под туманку Haval Dargo 2022- | B14: HADA2229AR | C14: 2803109XKN04A | D14: Заглушка правая под туманку Haval Dargo 2022- | E14: 10 | F14: 190 | H14: =IF(G14="","",F14*MIN(G14,E14))
A15: Заглушка правая под туманку Haval F7 2018-2022 | B15: KP-HVF7-219-1 | C15: 2803168XKQ00A8L | D15: Заглушка правая под туманку Haval F7 2018-2022 | E15: 10 | F15: 560 | H15: =IF(G15="","",F15*MIN(G15,E15))
... A104: Фонарь правый внутренний Haval F7 / F7x 2018-Н.В. (Китай) | B104: HA011970IR | C104: 4133104XKQ00A | D104: Фонарь правый внутренний Haval F7 / F7x 2018-Н.В. (Китай) | E104: 2 | F104: 3630 | H104: =IF(G104="","",F104*MIN(G104,E104))
D105: ИТОГО ЗАКАЗ | G105: =SUM(G4:G104) | H105: =SUM(H4:H104)
A107: Как заказать: впишите нужное количество в жёлтый столбец «Заказать» — сумма посчитается сама. Сохраните файл и отправьте нам. Товар в наличии на складе в Челябинске, цена за 1 шт., отгрузка после оплаты.
A108: Если заказать больше, чем есть в наличии, ячейка станет оранжевой, а сумма посчитается по наличию.

Sheet 14 Honda
A1: Лот № 14 — Honda
A2: ← к сводке лотов
A3: Марка / модель | B3: Артикул | C3: Оригинальный номер | D3: Наименование детали | E3: В наличии, шт | F3: Оптовая цена, ₽ | G3: Заказать, шт | H3: Сумма заказа, ₽
A4: Honda / Nissan (ST-M12374) | B4: ST-M12374 | C4: 90601SMG003 | D4: Клипса расширителя крыла | E4: 1 | F4: 200 | H4: =IF(G4="","",F4*MIN(G4,E4))
A5: Honda Accord (K5524) | B5: K5524 | D5: Колодки барабанные / | E5: 1 | F5: 2170 | H5: =IF(G5="","",F5*MIN(G5,E5))
A6: Honda Accord 03- (HLC) | B6: HLC53560-SDA-A01 | C6: 53560SDAA01 | D6: Рулевой наконечник левый | E6: 1 | F6: 170 | H6: =IF(G6="","",F6*MIN(G6,E6))
A7: Honda Accord 03- (HLC) | B7: HLC53540-SDA-A01 | C7: 53540SDAA0 | D7: Рулевой наконечник правый | E7: 1 | F7: 170 | H7: =IF(G7="","",F7*MIN(G7,E7))
A8: Honda Accord 2008-2012 (SAT) | B8: ST-HD29-203-0 | C8: 38611-R40-A01 | D8: Диффузор радиатора кондиционера правый | E8: 1 | F8: 3930 | H8: =IF(G8="","",F8*MIN(G8,E8))
A9: Honda Accord 2008-2013 | B9: BED10-19810 | C9: 74111-TA0-A00 | D9: Защита двигателя пластик | E9: 3 | F9: 880 | H9: =IF(G9="","",F9*MIN(G9,E9))
A10: Honda Accord 2008-2013 | B10: HO020833FL | C10: 71198-TL0-G00 | D10: Крепление переднего бампера левое (№2) | E10: 26 | F10: 140 | H10: =IF(G10="","",F10*MIN(G10,E10))
A11: Honda Accord 2008-2013 | B11: HO020833FR | C11: 71193-TL0-G00 | D11: Крепление переднего бампера правое (№2) | E11: 27 | F11: 140 | H11: =IF(G11="","",F11*MIN(G11,E11))
A12: Honda Accord 2008-2013 | B12: HO020840L | C12: 71190-TL0-G01 | D12: Планка под фару левая | E12: 27 | F12: 270 | H12: =IF(G12="","",F12*MIN(G12,E12))
A13: Honda Accord 2008-2013 | B13: HO020840R | C13: 71140-TL0-G01 | D13: Планка под фару правая | E13: 27 | F13: 270 | H13: =IF(G13="","",F13*MIN(G13,E13))
A14: HONDA Accord CL7 02- левая | B14: SL-H180L | D14: Тяга стабил. пер. левое | E14: 1 | F14: 780 | H14: =IF(G14="","",F14*MIN(G14,E14))
A15: HONDA Accord CL7 02- правая | B15: SL-H180R | D15: Тяга стабил. пер. правое | E15: 1 | F15: 450 | H15: =IF(G15="","",F15*MIN(G15,E15))
A16: Honda Accord CM / CL 2002-2006 Левая | B16: HD280015H-2L00 | C16: 60170-SDA-A00ZZ | D16: Петля капота | E16: 1 | F16: 230 | H16: =IF(G16="","",F16*MIN(G16,E16))
A17: Honda Civic (FK) 2012-2015 H/B Euro Type (1,4L) | B17: HD0M10B | C17: 60400TV1E00ZZ | D17: Рамка радиатора | E17: 1 | F17: 5130 | H17: =IF(G17="","",F17*MIN(G17,E17))
A18: Honda Civic (FN) 2005-2012 HBK | B18: 217-1979R-UE | C18: 33501-SMG-E04 | D18: Фонарь правый внешний | E18: 1 | F18: 1460 | H18: =IF(G18="","",F18*MIN(G18,E18))
A19: Honda Civic / Ferio EK 1996-1998 | B19: HD04061BA | C19: 71101-S04-000ZE | D19: Бампер передний | E19: 1 | F19: 2580 | H19: =IF(G19="","",F19*MIN(G19,E19))
A20: Honda Civic 2000-2003 4D | B20: GD99415AR | C20: 60211-S5A-000ZZ | D20: Крыло правое с отверстием под повторитель | E20: 1 | F20: 2410 | H20: =IF(G20="","",F20*MIN(G20,E20))
A21: Honda Civic 2001-2003 4D | B21: 217-1134R-LD-E | C21: 33151-S54-B01 | D21: Фара правая механика | E21: 2 | F21: 5830 | H21: =IF(G21="","",F21*MIN(G21,E21))
A22: Honda Civic 2005-2011 | B22: HD0J20AR | C22: 71140-SNB-000 | D22: Кронштейн под фару правый (металл) | E22: 52 | F22: 360 | H22: =IF(G22="","",F22*MIN(G22,E22))
A23: Honda Civic 2005-2011 Дисконт 15% | B23: IBC-HD88006UC | C23: 74111-SNA-A00 | D23: Защита двигателя | E23: 4 | F23: 730 | H23: =IF(G23="","",F23*MIN(G23,E23))
A24: Honda Civic 2005-2011 Дисконт 5% | B24: IBC-HD88006UC1 | C24: 74111-SNA-A00 | D24: Защита двигателя | E24: 2 | F24: 730 | H24: =IF(G24="","",F24*MIN(G24,E24))
A25: Honda Civic 2005-2012 H/B | B25: NEA14-19111 | C25: 74151-SMG-E02 | D25: Подкрылок левый | E25: 5 | F25: 1040 | H25: =IF(G25="","",F25*MIN(G25,E25))
A26: Honda Civic EK 1996-1998 Sedan | B26: HD04062BA | C26: 71501-S04-000ZZ | D26: Бампер задний | E26: 1 | F26: 3170 | H26: =IF(G26="","",F26*MIN(G26,E26))
A27: Honda Civic ES/ET 2003-2006 4D | B27: HD0C01A | C27: 60100S5DA80ZZ | D27: Капот | E27: 2 | F27: 8480 | H27: =IF(G27="","",F27*MIN(G27,E27))
... A50: Honda Fit 2007-2013 5D | B50: ST-HD76-940-A1 | C50: 76208-TF0-T01 | D50: Зеркало правое (3к.) | E50: 2 | F50: 970 | H50: =IF(G50="","",F50*MIN(G50,E50))
D51: ИТОГО ЗАКАЗ | G51: =SUM(G4:G50) | H51: =SUM(H4:H50)
A53: Как заказать: впишите нужное количество в жёлтый столбец «Заказать» — сумма посчитается сама. Сохраните файл и отправьте нам. Товар в наличии на складе в Челябинске, цена за 1 шт., отгрузка после оплаты.
A54: Если заказать больше, чем есть в наличии, ячейка станет оранжевой, а сумма посчитается по наличию.

Sheet 15 Hyundai
A1: Лот № 15 — Hyundai
A2: ← к сводке лотов
A3: Марка / модель | B3: Артикул | C3: Оригинальный номер | D3: Наименование детали | E3: В наличии, шт | F3: Оптовая цена, ₽ | G3: Заказать, шт | H3: Сумма заказа, ₽
A4: Hyundai Accent (Тагаз) 1999-2012 | B4: HN44016AS | C4: 86530-25250 | D4: Усилитель заднего бампера | E4: 1 | F4: 2310 | H4: =IF(G4="","",F4*MIN(G4,E4))
A5: Hyundai Accent (Тагаз) 1999-2012 | B5: 11-B150-01-2B | C5: 9241025020 | D5: Фонарь левый | E5: 7 | F5: 1590 | H5: =IF(G5="","",F5*MIN(G5,E5))
A6: Hyundai Accent (Тагаз) 1999-2012 | B6: 11-B149-01-2B | C6: 9242025020 | D6: Фонарь правый | E6: 6 | F6: 2010 | H6: =IF(G6="","",F6*MIN(G6,E6))
A7: Hyundai Accent (Тагаз) 1999-2012 А/Т | B7: HN1710B | C7: 64100-25300 | D7: Рамка радиатора | E7: 5 | F7: 3300 | H7: =IF(G7="","",F7*MIN(G7,E7))
A8: Hyundai Accent (Тагаз) 2000- М/Т | B8: HN1710A | C8: 6410025100 | D8: Рамка радиатора | E8: 2 | F8: 3540 | H8: =IF(G8="","",F8*MIN(G8,E8))
A9: Hyundai Accent 00-, Mazda 626 20i-22i -87, 929 20i-22i 86 | B9: C2562 | C9: 2811322600 | D9: Фильтр воздушный | E9: 1 | F9: 350 | H9: =IF(G9="","",F9*MIN(G9,E9))
A10: Hyundai Accent 1999-2012 Дисконт 40% | B10: ST-221-1116R-LDUC1 | C10: 9212025020 | D10: Фара правая с механическим корректором | E10: 1 | F10: 1490 | H10: =IF(G10="","",F10*MIN(G10,E10))
A11: Hyundai Accent 2017 | B11: HY121734 | C11: 86530-H5000 | D11: Усилитель переднего бампера | E11: 5 | F11: 2060 | H11: =IF(G11="","",F11*MIN(G11,E11))
A12: Hyundai Accent Tагаз 1999-2012 | B12: 51000029723 | C12: 8761025760 | D12: Зеркало левое (5к.) электрическое / подогрев | E12: 13 | F12: 1960 | H12: =IF(G12="","",F12*MIN(G12,E12))
A13: Hyundai Accent Tагаз 1999-2012 | B13: 51000029712 | C13: 8762025780 | D13: Зеркало правое (5к.) электрическое / подогрев | E13: 14 | F13: 1960 | H13: =IF(G13="","",F13*MIN(G13,E13))
A14: Hyundai Accent Tагаз 1999-2012 | B14: HN040015H-1L00 | C14: 79110-25001 | D14: Петля капота левая | E14: 19 | F14: 320 | H14: =IF(G14="","",F14*MIN(G14,E14))
A15: Hyundai Accent Tагаз 1999-2012 Дисконт 50% | B15: 99604CLUC | C15: 6631125350,6631125650 | D15: Крыло левое | E15: 2 | F15: 860 | H15: =IF(G15="","",F15*MIN(G15,E15))
... A157: Hyundai Tucson 2019-2021 | B157: 01-D750-08R | C157: 86812-D3500 | D157: Подкрылок правый | E157: 3 | F157: 430 | H157: =IF(G157="","",F157*MIN(G157,E157))
D158: ИТОГО ЗАКАЗ | G158: =SUM(G4:G157) | H158: =SUM(H4:H157)
A160: Как заказать: впишите нужное количество в жёлтый столбец «Заказать» — сумма посчитается сама. Сохраните файл и отправьте нам. Товар в наличии на складе в Челябинске, цена за 1 шт., отгрузка после оплаты.
A161: Если заказать больше, чем есть в наличии, ячейка станет оранжевой, а сумма посчитается по наличию.

Sheet 16 JAC
A1: Лот № 16 — JAC
A2: ← к сводке лотов
A3: Марка / модель | B3: Артикул | C3: Оригинальный номер | D3: Наименование детали | E3: В наличии, шт | F3: Оптовая цена, ₽ | G3: Заказать, шт | H3: Сумма заказа, ₽
A4: Бампер передний верхняя часть JAC X4 / Moskvich 3 2022-Н.В. | B4: KP-MSV3-000-0 | C4: 2803101U3480 | D4: Бампер передний верхняя часть JAC X4 / Moskvich 3 2022-Н.В. | E4: 3 | F4: 3730 | H4: =IF(G4="","",F4*MIN(G4,E4))
A5: Бампер передний нижняя часть JAC X4 / Moskvich 3 с 2022-Н.В. (Китай) | B5: KP-MSV3-013-0 | C5: 2803102U3480 | D5: Бампер передний нижняя часть JAC X4 / Moskvich 3 с 2022-Н.В. (Китай) | E5: 4 | F5: 3490 | H5: =IF(G5="","",F5*MIN(G5,E5))
A6: Заглушка бампера левая JAC J7 2020- | B6: KP-JCJ7-000G-2 | C6: 2803103U7300 | D6: Заглушка бампера левая JAC J7 2020- | E6: 10 | F6: 440 | H6: =IF(G6="","",F6*MIN(G6,E6))
A7: Заглушка бампера правая JAC J7 2020- | B7: KP-JCJ7-000G-1 | C7: 2803104U7300 | D7: Заглушка бампера правая JAC J7 2020- | E7: 10 | F7: 440 | H7: =IF(G7="","",F7*MIN(G7,E7))
A8: Капот JAC J7 2020- | B8: KP-JCJ7-015-0 | C8: 8402010U7300E | D8: Капот JAC J7 2020- | E8: 2 | F8: 9490 | H8: =IF(G8="","",F8*MIN(G8,E8))
A9: Капот JAC JS4 1 2020-2025 / Москвич 3 | B9: KP-MSV3-015-0 | C9: 8402010U3480E | D9: Капот JAC JS4 1 2020-2025 / Москвич 3 | E9: 2 | F9: 17300 | H9: =IF(G9="","",F9*MIN(G9,E9))
A10: Катафот левый в задний бампер JAC J7 2020- | B10: KP-29-JCJ7L | C10: 4133500U7300 | D10: Катафот левый в задний бампер JAC J7 2020- | E10: 10 | F10: 1090 | H10: =IF(G10="","",F10*MIN(G10,E10))
A11: Крепление левое переднего бампера JAC J7 2020-Н.В. | B11: KP-JCJ7-000B-2 | C11: 2803710U7300 | D11: Крепление левое переднего бампера JAC J7 2020-Н.В. | E11: 20 | F11: 170 | H11: =IF(G11="","",F11*MIN(G11,E11))
A12: Крепление левое переднего бампера JAC/Moskvich 3 2022- | B12: KP-MSV3-000B-2 | C12: 2803710U3480 | D12: Крепление левое переднего бампера JAC/Moskvich 3 2022- | E12: 10 | F12: 220 | H12: =IF(G12="","",F12*MIN(G12,E12))
A13: Крепление правое переднего бампера JAC J7 2020-Н.В. | B13: KP-JCJ7-000B-1 | C13: 2803720U7300 | D13: Крепление правое переднего бампера JAC J7 2020-Н.В. | E13: 20 | F13: 170 | H13: =IF(G13="","",F13*MIN(G13,E13))
A14: Крепление правое переднего бампера JAC/Moskvich 3 2022- | B14: KP-MSV3-000B-1 | C14: 2803720U3480 | D14: Крепление правое переднего бампера JAC/Moskvich 3 2022- | E14: 9 | F14: 220 | H14: =IF(G14="","",F14*MIN(G14,E14))
A15: Крыло левое JAC / Moskvich 3 2022- (Китай) | B15: KP-MSV3-016-2 | C15: 8403102U3480E | D15: Крыло левое JAC / Moskvich 3 2022- (Китай) | E15: 3 | F15: 4330 | H15: =IF(G15="","",F15*MIN(G15,E15))
... A34: Фонарь правый JAC J7 2020- | B34: KP-19-JCJ7R | C34: 4133200U7300 | D34: Фонарь правый JAC J7 2020- | E34: 5 | F34: 7570 | H34: =IF(G34="","",F34*MIN(G34,E34))
D35: ИТОГО ЗАКАЗ | G35: =SUM(G4:G34) | H35: =SUM(H4:H34)
A37: Как заказать: впишите нужное количество в жёлтый столбец «Заказать» — сумма посчитается сама. Сохраните файл и отправьте нам. Товар в наличии на складе в Челябинске, цена за 1 шт., отгрузка после оплаты.
A38: Если заказать больше, чем есть в наличии, ячейка станет оранжевой, а сумма посчитается по наличию.

Sheet 17 Jetta VA3 (Китай)
A1: Лот № 17 — Jetta VA3 (Китай)
A2: ← к сводке лотов
A3: Марка / модель | B3: Артикул | C3: Оригинальный номер | D3: Наименование детали | E3: В наличии, шт | F3: Оптовая цена, ₽ | G3: Заказать, шт | H3: Сумма заказа, ₽
A4: Jetta VA3 2019- | B4: JEVA3IAA2 | C4: L6RM807421AGRU | D4: Бампер задний | E4: 2 | F4: 4160 | H4: =IF(G4="","",F4*MIN(G4,E4))
A5: Jetta VA3 2019- | B5: JEVA3IAA3 | C5: 6RM805915 | D5: Бампер передний (спойлер) | E5: 2 | F5: 1170 | H5: =IF(G5="","",F5*MIN(G5,E5))
A6: Jetta VA3 2019- | B6: VA3AA12 | C6: L6RM807221GRU | D6: Бампер передний с отверстием под крюк | E6: 8 | F6: 2940 | H6: =IF(G6="","",F6*MIN(G6,E6))
A7: Jetta VA3 2019- | B7: JEVA3IAA9 | C7: L6RM853665 | D7: Оправа противотуманной фары левая | E7: 10 | F7: 290 | H7: =IF(G7="","",F7*MIN(G7,E7))
A8: Jetta VA3 2019- | B8: VA3AA10 | C8: L6RM853666 | D8: Оправа противотуманной фары правая | E8: 7 | F8: 270 | H8: =IF(G8="","",F8*MIN(G8,E8))
A9: Jetta VA3 2019- | B9: ST-JTVA-009-0 | C9: 34D805588A | D9: Рамка кузова | E9: 3 | F9: 550 | H9: =IF(G9="","",F9*MIN(G9,E9))
A10: Jetta VA3 2019- | B10: JEVA3IAA17 | C10: L6RM853677 | D10: Решетка в бампер | E10: 3 | F10: 750 | H10: =IF(G10="","",F10*MIN(G10,E10))
A11: Jetta VA3 2019- | B11: JEVA3IAA8 | C11: 6RM853653 | D11: Решетка радиатора | E11: 5 | F11: 2610 | H11: =IF(G11="","",F11*MIN(G11,E11))
A12: Jetta VA3 2019- | B12: FAWUN00A1 | C12: L6RM807109 | D12: Усилитель бампера | E12: 2 | F12: 4470 | H12: =IF(G12="","",F12*MIN(G12,E12))
A13: Jetta VA3 2019- | B13: JEVA3I39AL | C13: 6RM941005 | D13: Фара левая | E13: 5 | F13: 5150 | H13: =IF(G13="","",F13*MIN(G13,E13))
A14: Jetta VA3 2019- | B14: JEVA3I39AR | C14: 6RM941006 | D14: Фара правая | E14: 6 | F14: 4990 | H14: =IF(G14="","",F14*MIN(G14,E14))
A15: Jetta VA3 2019- | B15: ST-141-16VA3L | C15: 5CG941661 | D15: Фара противотуманная левая | E15: 10 | F15: 1470 | H15: =IF(G15="","",F15*MIN(G15,E15))
... A20: Jetta VA3 2019- | B20: VA3AA4 | C20: L6RM945094 | D20: Фонарь внутренний правый | E20: 8 | F20: 180 | H20: =IF(G20="","",F20*MIN(G20,E20))
D21: ИТОГО ЗАКАЗ | G21: =SUM(G4:G20) | H21: =SUM(H4:H20)
A23: Как заказать: впишите нужное количество в жёлтый столбец «Заказать» — сумма посчитается сама. Сохраните файл и отправьте нам. Товар в наличии на складе в Челябинске, цена за 1 шт., отгрузка после оплаты.
A24: Если заказать больше, чем есть в наличии, ячейка станет оранжевой, а сумма посчитается по наличию.

Sheet 18 Kaiyi
A1: Лот № 18 — Kaiyi
A2: ← к сводке лотов
A3: Марка / модель | B3: Артикул | C3: Оригинальный номер | D3: Наименование детали | E3: В наличии, шт | F3: Оптовая цена, ₽ | G3: Заказать, шт | H3: Сумма заказа, ₽
A4: Бампер задний Kaiyi E5 (Китай) | B4: KP-KAE5-087-0 | C4: 602001647AADQJ | D4: Бампер задний Kaiyi E5 (Китай) | E4: 2 | F4: 6850 | H4: =IF(G4="","",F4*MIN(G4,E4))
A5: Бачок омывателя KAIYI E5 | B5: KP-KAE5-101-0 | C5: M11-5207110BA | D5: Бачок омывателя KAIYI E5 | E5: 5 | F5: 440 | H5: =IF(G5="","",F5*MIN(G5,E5))
A6: ДХО левый Kaiyi E5 (Китай) | B6: KP-16-KAE5L | C6: 605000473AA | D6: ДХО левый Kaiyi E5 (Китай) | E6: 5 | F6: 6970 | H6: =IF(G6="","",F6*MIN(G6,E6))
A7: Капот Kaiyi E5 (Китай) | B7: KP-KAE5-015-0 | C7: 553000230AADYJ | D7: Капот Kaiyi E5 (Китай) | E7: 2 | F7: 18020 | H7: =IF(G7="","",F7*MIN(G7,E7))
A8: Крепление левое заднего бампера правое Kaiyi E5 2021 | B8: KP-KAE5-087B-2 | C8: 602001423AA | D8: Крепление левое заднего бампера правое Kaiyi E5 2021 | E8: 10 | F8: 1420 | H8: =IF(G8="","",F8*MIN(G8,E8))
A9: Крепление правое заднего бампера правое Kaiyi E5 2021 | B9: KP-KAE5-087B-1 | C9: 602001424AA | D9: Крепление правое заднего бампера правое Kaiyi E5 2021 | E9: 10 | F9: 1420 | H9: =IF(G9="","",F9*MIN(G9,E9))
A10: Крепление правое переднего бампера Kaiyi E5 | B10: KP-KAE5-000B-1 | C10: 602001422AA | D10: Крепление правое переднего бампера Kaiyi E5 | E10: 20 | F10: 440 | H10: =IF(G10="","",F10*MIN(G10,E10))
A11: Крыло левое Kaiyi E5 2021- | B11: KP-KAE5-016-2 | C11: 553000242AADYJ | D11: Крыло левое Kaiyi E5 2021- | E11: 4 | F11: 5290 | H11: =IF(G11="","",F11*MIN(G11,E11))
A12: Крыло правое Kaiyi E5 2021- | B12: KP-KAE5-016-1 | C12: 553000243AADYJ | D12: Крыло правое Kaiyi E5 2021- | E12: 4 | F12: 5290 | H12: =IF(G12="","",F12*MIN(G12,E12))
A13: Оправа туманки левая Kaiyi E5 2021 | B13: KP-KAE5-219-2 | C13: 602001639AA | D13: Оправа туманки левая Kaiyi E5 2021 | E13: 5 | F13: 1280 | H13: =IF(G13="","",F13*MIN(G13,E13))
A14: Оправа туманки правая Kaiyi E5 2021 | B14: KP-KAE5-219-1 | C14: 602001640AA | D14: Оправа туманки правая Kaiyi E5 2021 | E14: 5 | F14: 1280 | H14: =IF(G14="","",F14*MIN(G14,E14))
A15: Отражатель левый заднего бампера Kaiyi E5 | B15: KP-29-KAE5L | C15: 605000469AA | D15: Отражатель левый заднего бампера Kaiyi E5 | E15: 12 | F15: 250 | H15: =IF(G15="","",F15*MIN(G15,E15))
... A22: Фонарь задний правый наружный Kaiyi E5 | B22: KP-19-KAE5R | C22: 605000466AA | D22: Фонарь задний правый наружный Kaiyi E5 | E22: 3 | F22: 4690 | H22: =IF(G22="","",F22*MIN(G22,E22))
D23: ИТОГО ЗАКАЗ | G23: =SUM(G4:G22) | H23: =SUM(H4:H22)
A25: Как заказать: впишите нужное количество в жёлтый столбец «Заказать» — сумма посчитается сама. Сохраните файл и отправьте нам. Товар в наличии на складе в Челябинске, цена за 1 шт., отгрузка после оплаты.
A26: Если заказать больше, чем есть в наличии, ячейка станет оранжевой, а сумма посчитается по наличию.

Sheet 19 Kia
A1: Лот № 19 — Kia
A2: ← к сводке лотов
A3: Марка / модель | B3: Артикул | C3: Оригинальный номер | D3: Наименование детали | E3: В наличии, шт | F3: Оптовая цена, ₽ | G3: Заказать, шт | H3: Сумма заказа, ₽
A4: Kia / Mazda / Nissan | B4: CVKK75 | C4: S084-28-333 | D4: Втулка рессоры | E4: 10 | F4: 40 | H4: =IF(G4="","",F4*MIN(G4,E4))
A5: Kia Ceed 2006-2009 Левая | B5: ST-223-2009L-UE | C5: 922011H000 | D5: Туманка | E5: 1 | F5: 1190 | H5: =IF(G5="","",F5*MIN(G5,E5))
A6: Kia Ceed 2006-2009 Правая | B6: ST-223-2009R-UE | C6: 922021H000 | D6: Туманка | E6: 1 | F6: 1190 | H6: =IF(G6="","",F6*MIN(G6,E6))
A7: Kia Ceed 2006-2010 | B7: 388-KAD084TA | C7: 876101H250 | D7: Зеркало левое электро с подогревом | E7: 5 | F7: 3410 | H7: =IF(G7="","",F7*MIN(G7,E7))
A8: Kia Ceed 2006-2010 | B8: 388-KAD083T | C8: 876101H150 | D8: Зеркало правое электро с подогревом | E8: 7 | F8: 2430 | H8: =IF(G8="","",F8*MIN(G8,E8))
A9: Kia Ceed 2006-2010 Дисконт 50% | B9: KI2002ALUC1 | C9: 66311-1H010 | D9: Крыло левое с отверстием | E9: 1 | F9: 2880 | H9: =IF(G9="","",F9*MIN(G9,E9))
A10: Kia Ceed 2010-2012 | B10: KI2002BR | C10: 663211H050 | D10: Крыло правое без отверстия | E10: 1 | F10: 2850 | H10: =IF(G10="","",F10*MIN(G10,E10))
A11: Kia Ceed 2010-2012 | B11: KOF01-34722 | C11: 865641H500 | D11: Оправа туманки правая | E11: 2 | F11: 550 | H11: =IF(G11="","",F11*MIN(G11,E11))
A12: Kia Ceed 2010-2012 | B12: KA401000G-A000 | C12: 865221H500 | D12: Решетка в бампер | E12: 4 | F12: 820 | H12: =IF(G12="","",F12*MIN(G12,E12))
A13: Kia Ceed 2010-2012 5D | B13: 223-1944L-UE | C13: 924011H050 | D13: Фонарь левый | E13: 5 | F13: 2740 | H13: =IF(G13="","",F13*MIN(G13,E13))
A14: Kia Ceed 2012-2016 | B14: KOF02-23240 | C14: 86510-A2020 | D14: Бампер передний под парктроники | E14: 2 | F14: 5230 | H14: =IF(G14="","",F14*MIN(G14,E14))
A15: Kia Ceed 2012-2016 | B15: 02-A200-05A1L | C15: 92201A2000 | D15: Туманка левая | E15: 4 | F15: 810 | H15: =IF(G15="","",F15*MIN(G15,E15))
... A127: Kia Seltos 2019- EX/LX/S | B127: COL01-27110 | C127: 64900Q5100 | D127: Усилитель переднего бампера | E127: 1 | F127: 12910 | H127: =IF(G127="","",F127*MIN(G127,E127))
A128: KIA Shuma 97-01 | B128: 145XY22 | D128: Ремень ГРМ MZ B5 / B6 / BP 89-96 323 / Familia / Lantis / Eunos BG#, | E128: 1 | F128: 530 | H128: =IF(G128="","",F128*MIN(G128,E128))
A129: Kia Sorento (BL) 2002-2009 | B129: KI5A02BL | C129: 66311-3E100 | D129: Крыло левое | E129: 1 | F129: 3960 | H129: =IF(G129="","",F129*MIN(G129,E129))
A130: Kia Sorento (BL) 2002-2011 | B130: KI5A02AL | C130: 663113E130 | D130: Крыло под расширитель левое | E130: 1 | F130: 1620 | H130: =IF(G130="","",F130*MIN(G130,E130))
A131: Kia Sorento (BL) 2006-2011 | B131: KA04030BD | C131: 86511-3E512 | D131: Бампер передний | E131: 1 | F131: 7760 | H131: =IF(G131="","",F131*MIN(G131,E131))
A132: Kia Sorento (XM) 2009-2012 | B132: GD99D54R | C132: 663211U020 | D132: Крыло правое под расширитель | E132: 1 | F132: 2520 | H132: =IF(G132="","",F132*MIN(G132,E132))
A133: Kia Sorento (XM) 2009-2012 | B133: 223-1948L-UE | C133: 924012P020 | D133: Фонарь левый | E133: 1 | F133: 5390 | H133: =IF(G133="","",F133*MIN(G133,E133))
A134: Kia Sorento (XM) 2009-2012 (GD99D55UC / Замятие) Дисконт 20% | B134: GD99D55UC | C134: 664001U000 | D134: Капот | E134: 1 | F134: 10490 | H134: =IF(G134="","",F134*MIN(G134,E134))
A135: Kia Sorento (XM) 2014-2016 | B135: KA04062BA | C135: 865121U500 | D135: Бампер передний нижняя часть | E135: 2 | F135: 5190 | H135: =IF(G135="","",F135*MIN(G135,E135))
A136: Kia Sorento 2002-2011 | B136: KI5A02CL | C136: 663113E141 | D136: Крыло левое | E136: 1 | F136: 5830 | H136: =IF(G136="","",F136*MIN(G136,E136))
A137: Kia Sorento 2006-2009 | B137: KOS01-19111 | C137: 86811 3E500 | D137: Подкрылок левый | E137: 2 | F137: 870 | H137: =IF(G137="","",F137*MIN(G137,E137))
A138: Kia Sorento 2009 | B138: KOS02-19112 | C138: 868201U000 | D138: Подкрылок правый | E138: 2 | F138: 900 | H138: =IF(G138="","",F138*MIN(G138,E138))
A139: Kia Soul (SK3) 2018- | B139: KA10052AL | C139: 66311-K0000 | D139: Крыло левое | E139: 1 | F139: 6010 | H139: =IF(G139="","",F139*MIN(G139,E139))
A140: Kia Soul (SK3) 2018- Левая | B140: 02-K000-05L | C140: 92201-K0000 | D140: Туманка | E140: 1 | F140: 1010 | H140: =IF(G140="","",F140*MIN(G140,E140))
... A185: Kia Sportage III 2010-2016 Дисконт 20% | B185: 02-3U00-05TRUC | C185: 924063U300 | D185: Фонарь в задний бампер правый | E185: 1 | F185: 2060 | H185: =IF(G185="","",F185*MIN(G185,E185))
D186: ИТОГО ЗАКАЗ | G186: =SUM(G4:G185) | H186: =SUM(H4:H185)
A188: Как заказать: впишите нужное количество в жёлтый столбец «Заказать» — сумма посчитается сама. Сохраните файл и отправьте нам. Товар в наличии на складе в Челябинске, цена за 1 шт., отгрузка после оплаты.
A189: Если заказать больше, чем есть в наличии, ячейка станет оранжевой, а сумма посчитается по наличию.

Sheet 20 Lifan
A1: Лот № 20 — Lifan
A2: ← к сводке лотов
A3: Марка / модель | B3: Артикул | C3: Оригинальный номер | D3: Наименование детали | E3: В наличии, шт | F3: Оптовая цена, ₽ | G3: Заказать, шт | H3: Сумма заказа, ₽
A4: Бампер задний LIFAN SMILY 2008- | B4: KP-LF05-087-0 | C4: F2804111B1 | D4: Бампер задний LIFAN SMILY 2008- | E4: 5 | F4: 1930 | H4: =IF(G4="","",F4*MIN(G4,E4))
A5: Бампер задний Lifan Solano 2010-2015 (Китай) | B5: KP-LF01-087-0 | C5: B2804111B1 | D5: Бампер задний Lifan Solano 2010-2015 (Китай) | E5: 5 | F5: 2890 | H5: =IF(G5="","",F5*MIN(G5,E5))
A6: Капот Lifan Solano 2010-2016 | B6: KP-LF01-015-0 | C6: B8402000 | D6: Капот Lifan Solano 2010-2016 | E6: 2 | F6: 14180 | H6: =IF(G6="","",F6*MIN(G6,E6))
A7: Крепление левое заднего бампера Lifan X60 2012-2016 | B7: KP-LFX60-087B-2 | C7: S2804130 | D7: Крепление левое заднего бампера Lifan X60 2012-2016 | E7: 20 | F7: 220 | H7: =IF(G7="","",F7*MIN(G7,E7))
A8: Крепление правое заднего бампера Lifan X60 2012-2016 | B8: KP-LFX60-087B-1 | C8: S2804140 | D8: Крепление правое заднего бампера Lifan X60 2012-2016 | E8: 20 | F8: 220 | H8: =IF(G8="","",F8*MIN(G8,E8))
A9: Подкрылок левый передний Lifan Solano 2010- | B9: KP-LF01-016L-2 | C9: B5400311 | D9: Подкрылок левый передний Lifan Solano 2010- | E9: 10 | F9: 250 | H9: =IF(G9="","",F9*MIN(G9,E9))
